BEGIN:VCALENDAR
VERSION:2.0
PRODID:-//jEvents 2.0 for Joomla//EN
CALSCALE:GREGORIAN
METHOD:PUBLISH
BEGIN:VEVENT
UID:8baf851a35aa41d443f57594c1548ac6
CATEGORIES:DEFAULT
SUMMARY:Beautiful science. Dialogo con Ilaria Capua su SARS-CoV2
DESCRIPTION;ENCODING=QUOTED-PRINTABLE:Incontro con Ilaria Capua, virologa e direttrice di un dipartimento dell'Em
 erging Pathogens Institute dell'Università della Florida. Organizzato in co
 llaborazione con l'Associazione Italiana Centri Culturali (AIC). Sarà possi
 bile seguire l'incontro in streaming sul canale YouTube dell'AIC (https://w
 ww.youtube.com/user/sun123323) 
DTSTAMP:20260424T234524Z
DTSTART:20200515T160000Z
SEQUENCE:0
TRANSP:OPAQUE
END:VEVENT
END:VCALENDAR