BEGIN:VCALENDAR
VERSION:2.0
PRODID:-//jEvents 2.0 for Joomla//EN
CALSCALE:GREGORIAN
METHOD:PUBLISH
BEGIN:VEVENT
UID:159898d7bdc800b582809ebdd8974d45
CATEGORIES:DEFAULT
SUMMARY:Sentinella, a che punto siamo della notte?”. Notizie, domande, prospettive dal Covid-19
DESCRIPTION;ENCODING=QUOTED-PRINTABLE:Incontro con il prof. Costantino Esposito, docente di Storia della filosofi
 a all'Università di Bari.Organizzato dall'associazione Apis – Amore per il 
 Sapere.Sarà possibile seguire l'incontro in streaming sul canale YouTube di
  Romanae Disputationes (https://www.youtube.com/channel/UCxmQzzh47V4dvJPFYt
 2t5XQ)
DTSTAMP:20260424T234503Z
DTSTART:20200525T150000Z
SEQUENCE:0
TRANSP:OPAQUE
END:VEVENT
END:VCALENDAR