BEGIN:VCALENDAR
VERSION:2.0
PRODID:-//jEvents 2.0 for Joomla//EN
CALSCALE:GREGORIAN
METHOD:PUBLISH
BEGIN:VEVENT
UID:ab935eb4e80a8e9dcf8124482e62ad9b
CATEGORIES:DEFAULT
SUMMARY:VI Simposio Interdisciplinare “Parliamo di Scienza”
DESCRIPTION;ENCODING=QUOTED-PRINTABLE:\n\nEuresis,  Associazione per la promozione e lo Sviluppo della Cultura e 
 del lavoro scientifico, propone il Simposio "La Scienza studia l'uomo -\nNe
 uroscienze, Genetica, Biofisica" che si terrà il 22 e 23 OTTOBRE 2020. \n\n
 \nA causa dell'attuale situazione sanitaria verrà organizzato in modo telem
 atico: le iscrizioni sono aperte fino al 15 ottobre.  \n\n\nPer tutti i det
 tagli è possibile visitare il sito https://euresis.org/parliamo-di-scienza/
  \n
DTSTAMP:20260425T050212Z
DTSTART;VALUE=DATE:20201022
DTEND;VALUE=DATE:20201024
SEQUENCE:0
TRANSP:OPAQUE
END:VEVENT
END:VCALENDAR