BEGIN:VCALENDAR
VERSION:2.0
PRODID:-//jEvents 2.0 for Joomla//EN
CALSCALE:GREGORIAN
METHOD:PUBLISH
BEGIN:VEVENT
UID:a879783cbb672cc8be55e7d853efdc11
CATEGORIES:DEFAULT
SUMMARY:S. Messa di inizio anno
DESCRIPTION;ENCODING=QUOTED-PRINTABLE:\n\nGiovedì 1° ottobre 2020, alle ore 17.30 S.E. msg. Mario Delpini celebre
 rà una S.Messa di inizio anno scolastico in Duomo a Milano aperta a tutti g
 li insegnanti di tutte\nle scuole della diocesi. E’ possibile partecipare i
 n presenza iscrivendosi, fino ad esaurimento posti, a questo link: https://
 diocesimilanord.ircmi.it/node/195\nIn alternativa la celebrazione potrà ess
 ere seguita in diretta su Chiesa TV (canale195 del digitale terrestre), in 
 streaming sul portale della Diocesi di Milano www.chiesadimilano.it e sul c
 anale youtube.com/chiesadimilano.\n
DTSTAMP:20260425T030210Z
DTSTART:20201001T153000Z
SEQUENCE:0
TRANSP:OPAQUE
END:VEVENT
END:VCALENDAR