BEGIN:VCALENDAR
VERSION:2.0
PRODID:-//jEvents 2.0 for Joomla//EN
CALSCALE:GREGORIAN
METHOD:PUBLISH
BEGIN:VEVENT
UID:4d257badd48e6bccf2cb078007ac48a5
CATEGORIES:DEFAULT
SUMMARY: Convention Scuola 2020 - Diesse 
LOCATION:Online
DESCRIPTION;ENCODING=QUOTED-PRINTABLE:\n\n\n\n\n \n\n\nSi terrà sabato 17 e domenica 18 ottobre la Convention di 
 Diesse "Al cuore dell’insegnamento. Tra esigenze permanenti e nuovi scenari
 ". Questa intende essere l’occasione per riflettere su quali siano gli aspe
 tti essenziali del mestiere dell’insegnante di fronte alle sfide del nostro
  tempo: non solo fare scuola nella situazione di emergenza sanitaria, ma ri
 spondere all'esigenza di far crescere dei giovani che siano in grado di aff
 rontare l’incertezza di un mondo in continuo e rapido cambiamento.\n\n\n\n
DTSTAMP:20260425T030212Z
DTSTART:20201017T124500Z
SEQUENCE:0
TRANSP:OPAQUE
END:VEVENT
END:VCALENDAR