BEGIN:VCALENDAR
VERSION:2.0
PRODID:-//jEvents 2.0 for Joomla//EN
CALSCALE:GREGORIAN
METHOD:PUBLISH
BEGIN:VEVENT
UID:e478753d166b3d2e83ec582d90bf5f11
CATEGORIES:DEFAULT
SUMMARY:Assemblea dei Soci - Diesse Lombardia
LOCATION:Viale Zara 9, Milano (Sede Diesse Lombardia) 
DESCRIPTION;ENCODING=QUOTED-PRINTABLE:\n\nAssemblea ordinaria dei soci \n
CONTACT:Questo indirizzo email è protetto dagli spambots. È necessario abilitare JavaScript per vederlo.
 //
 
DTSTAMP:20260425T030210Z
DTSTART:20201009T190000Z
SEQUENCE:0
TRANSP:OPAQUE
END:VEVENT
END:VCALENDAR