BEGIN:VCALENDAR
VERSION:2.0
PRODID:-//jEvents 2.0 for Joomla//EN
CALSCALE:GREGORIAN
METHOD:PUBLISH
BEGIN:VEVENT
UID:befaf11a992ec41880425743a1b0f04a
CATEGORIES:DEFAULT
SUMMARY:Il desiderio si riaccende in un luogo
LOCATION:Canale Youtube di Cdo Opere educative
DESCRIPTION;ENCODING=QUOTED-PRINTABLE:\n\nDialogo sul tema educativo con Massimo Recalcati e Julián Carrón, che s
 i svolgerà in video collegamento giovedì 22 ottobre alle ore 21.00, promoss
 o da Cdo Opere Educative, Disal, Diesse, Portofranco e dall'Associazione il
  Rischio Educativo, in occasione della pubblicazione di Educazione. Comunic
 azione di sé di Julián Carrón.\n
DTSTAMP:20260425T030210Z
DTSTART:20201022T190000Z
SEQUENCE:0
TRANSP:OPAQUE
END:VEVENT
END:VCALENDAR