BEGIN:VCALENDAR
VERSION:2.0
PRODID:-//jEvents 2.0 for Joomla//EN
CALSCALE:GREGORIAN
METHOD:PUBLISH
BEGIN:VEVENT
UID:d4cefc8f55d9a9c94db60fb6b316c248
CATEGORIES:DEFAULT
SUMMARY:Professione insegnante, presente e futuro (Università Cattolica).
LOCATION:Online
DESCRIPTION;ENCODING=QUOTED-PRINTABLE:\n\nNel Programma del Career Week UC 2020 Smart student for smart placement
   dell'Università Cattolica ci sarà la Non profit Digital Week (23-27 novem
 bre 2020) e, al suo interno, un interessante webinar gratuito sul tema: Pro
 fessione insegnante, presente e futuro. \n\n\nInterverranno: \n\n\nDomenico
  Simeone, Professore ordinario di Pedagogia generale e sociale, Preside del
 la facoltà di Scienze della Formazione, UCSC.\n\n\nLuigi D'Alonzo, Professo
 re ordinario di Didattica e Pedagogia speciale, UCSC.\n\n\nRiccardo Scaglio
 ni, Presidente ANFIS (Associazione Nazionale Formatori Insegnanti Superviso
 ri)\n\n\nÈ possibile iscriversi all'evento gratuito (che si terrà online)\n
 \n\nLInk per iscriversi al webinar gratuito (PER STUDENTI)\n\n\nLink per is
 criversi al webinar gratuito (PER NON STUDENTI)\n\n\n\nOgni utente riceverà
  il link per accedere al webinar la sera prima dell'evento. Le iscrizioni s
 i chiuderanno la sera prima di ogni sessione/attività. Non sarà quindi poss
 ibile iscriversi in giornata.\n
DTSTAMP:20260425T030212Z
DTSTART:20201124T140000Z
DTEND:20201124T153000Z
SEQUENCE:0
TRANSP:OPAQUE
END:VEVENT
END:VCALENDAR