BEGIN:VCALENDAR
VERSION:2.0
PRODID:-//jEvents 2.0 for Joomla//EN
CALSCALE:GREGORIAN
METHOD:PUBLISH
BEGIN:VEVENT
UID:ededff8b811490ddba5c9984bd1643d4
CATEGORIES:DEFAULT
SUMMARY:Terza lezione Generazione Web - D2 - Contatti online con famiglie e tutorial per studenti 
DESCRIPTION;ENCODING=QUOTED-PRINTABLE:
DTSTAMP:20260424T173822Z
DTSTART:20160317T143000Z
SEQUENCE:0
TRANSP:OPAQUE
END:VEVENT
END:VCALENDAR