BEGIN:VCALENDAR
VERSION:2.0
PRODID:-//jEvents 2.0 for Joomla//EN
CALSCALE:GREGORIAN
METHOD:PUBLISH
BEGIN:VEVENT
UID:891848ebb0ebb05f9797d1116f532deb
CATEGORIES:DEFAULT
SUMMARY:Terza lezione Generazione web - C2
DESCRIPTION;ENCODING=QUOTED-PRINTABLE:
DTSTAMP:20260424T173906Z
DTSTART:20160317T070000Z
DTEND:20160317T160000Z
SEQUENCE:0
TRANSP:OPAQUE
END:VEVENT
END:VCALENDAR