BEGIN:VCALENDAR
VERSION:2.0
PRODID:-//jEvents 2.0 for Joomla//EN
CALSCALE:GREGORIAN
METHOD:PUBLISH
BEGIN:VEVENT
UID:200c52423dfad2871c7d1c7dd89f17b3
CATEGORIES:DEFAULT
SUMMARY:Terza lezione Generazione web - D1
LOCATION:IC Romagnosi - Carate
DESCRIPTION;ENCODING=QUOTED-PRINTABLE:
DTSTAMP:20260424T173821Z
DTSTART:20160321T070000Z
DTEND:20160321T160000Z
SEQUENCE:0
TRANSP:OPAQUE
END:VEVENT
END:VCALENDAR