BEGIN:VCALENDAR
VERSION:2.0
PRODID:-//jEvents 2.0 for Joomla//EN
CALSCALE:GREGORIAN
METHOD:PUBLISH
BEGIN:VEVENT
UID:b7b0b60b2c2d77e88251a6214f787879
CATEGORIES:DEFAULT
SUMMARY:CERTIFICATE ACQUISITION IN ADVANCED ENGLISH (CAE) - LIVELLO C1
LOCATION:Liceo Tenca, Bastioni di Porta Volta, 16 - Milano
DESCRIPTION;ENCODING=QUOTED-PRINTABLE:
DTSTAMP:20260424T173822Z
DTSTART:20160321T153000Z
DTEND:20160321T183000Z
SEQUENCE:0
TRANSP:OPAQUE
END:VEVENT
END:VCALENDAR