BEGIN:VCALENDAR
VERSION:2.0
PRODID:-//jEvents 2.0 for Joomla//EN
CALSCALE:GREGORIAN
METHOD:PUBLISH
BEGIN:VEVENT
UID:c7838a93235856b6ebc21c2c7bac3527
CATEGORIES:DEFAULT
SUMMARY:CERTIFICATE ACQUISITION IN ADVANCED ENGLISH (CAE) - LIVELLO C1
LOCATION:Liceo Tenca, Bastioni di Porta Volta, 16 - Milano
DESCRIPTION;ENCODING=QUOTED-PRINTABLE:
DTSTAMP:20260424T190518Z
DTSTART:20160411T143000Z
DTEND:20160411T173000Z
SEQUENCE:0
TRANSP:OPAQUE
END:VEVENT
END:VCALENDAR