BEGIN:VCALENDAR
VERSION:2.0
PRODID:-//jEvents 2.0 for Joomla//EN
CALSCALE:GREGORIAN
METHOD:PUBLISH
BEGIN:VEVENT
UID:3d70e9960fd1c62e7617d9849e700c65
CATEGORIES:DEFAULT
SUMMARY:CERTIFICATE ACQUISITION IN ADVANCED ENGLISH (CAE) - LIVELLO C1
LOCATION:Liceo Tenca, Bastioni di Porta Volta, 16 - Milano
DESCRIPTION;ENCODING=QUOTED-PRINTABLE:
DTSTAMP:20260424T190517Z
DTSTART:20160418T143000Z
DTEND:20160418T173000Z
SEQUENCE:0
TRANSP:OPAQUE
END:VEVENT
END:VCALENDAR