BEGIN:VCALENDAR
VERSION:2.0
PRODID:-//jEvents 2.0 for Joomla//EN
CALSCALE:GREGORIAN
METHOD:PUBLISH
BEGIN:VEVENT
UID:9978f7580bbc5aaac3fe566204a0abc9
CATEGORIES:DEFAULT
SUMMARY:ACQUISIZIONE DEL FIRST CERTIFICATE IN ENGLISH (FCE) - LIVELLO B2
LOCATION:Liceo Tenca, Bastioni di Porta Volta, 16 - Milano
DESCRIPTION;ENCODING=QUOTED-PRINTABLE:
DTSTAMP:20260424T175434Z
DTSTART:20160331T143000Z
DTEND:20160331T173000Z
SEQUENCE:0
TRANSP:OPAQUE
END:VEVENT
END:VCALENDAR