BEGIN:VCALENDAR
VERSION:2.0
PRODID:-//jEvents 2.0 for Joomla//EN
CALSCALE:GREGORIAN
METHOD:PUBLISH
BEGIN:VEVENT
UID:3f6f7c6ea1238cfc9b571cd030de3a61
CATEGORIES:DEFAULT
SUMMARY:ACQUISIZIONE DEL FIRST CERTIFICATE IN ENGLISH (FCE) - LIVELLO B2
LOCATION:Liceo Tenca, Bastioni di Porta Volta, 16 - Milano
DESCRIPTION;ENCODING=QUOTED-PRINTABLE:
DTSTAMP:20260424T191253Z
DTSTART:20160421T143000Z
DTEND:20160421T173000Z
SEQUENCE:0
TRANSP:OPAQUE
END:VEVENT
END:VCALENDAR