BEGIN:VCALENDAR
VERSION:2.0
PRODID:-//jEvents 2.0 for Joomla//EN
CALSCALE:GREGORIAN
METHOD:PUBLISH
BEGIN:VEVENT
UID:b1fa33525ee32c4bc215d81b4381a5e7
CATEGORIES:DEFAULT
SUMMARY:Quinto incontro "Educare alla parità, prevenire la violenza"
LOCATION:Università Cattolica del Sacro Cuore
DESCRIPTION;ENCODING=QUOTED-PRINTABLE:\n\n"Che cosa è il bullismo e come si manifesta?"\n\n\nInterviene:\n\n\nSim
 ona Caravita\n\n\n"Come prevenire e contrastare il bullismo e il cyberbulli
 smo".\n\n\nInterviene:\n\n\nSimona Caravita\n\n\nLaboratori\n
DTSTAMP:20260424T221401Z
DTSTART:20160507T080000Z
DTEND:20160507T140000Z
SEQUENCE:0
TRANSP:OPAQUE
END:VEVENT
END:VCALENDAR