BEGIN:VCALENDAR
VERSION:2.0
PRODID:-//jEvents 2.0 for Joomla//EN
CALSCALE:GREGORIAN
METHOD:PUBLISH
BEGIN:VEVENT
UID:70bcf11992de6bcedda82da8fd0afb46
CATEGORIES:DEFAULT
SUMMARY:Sesto incontro "Educare alla parità, prevenire la violenza"
LOCATION:Università Cattolica del Sacro Cuore
DESCRIPTION;ENCODING=QUOTED-PRINTABLE:\n\nLaboratorio: "Come costruire un progetto"\n
DTSTAMP:20260424T202754Z
DTSTART:20160518T150000Z
DTEND:20160518T170000Z
SEQUENCE:0
TRANSP:OPAQUE
END:VEVENT
END:VCALENDAR