BEGIN:VCALENDAR
VERSION:2.0
PRODID:-//jEvents 2.0 for Joomla//EN
CALSCALE:GREGORIAN
METHOD:PUBLISH
BEGIN:VEVENT
UID:fd524b7ada046dabb6c77288ef8efd2c
CATEGORIES:DEFAULT
SUMMARY:seconda lezione IL GIOCO COME CIBO DELLA MENTE
LOCATION:IC V.le Lombardia - Cologno M.se
DESCRIPTION;ENCODING=QUOTED-PRINTABLE:\n\nrivolto a docenti della scuola dell'infanzia e prima classe della scuol
 a primaria \n
DTSTAMP:20260424T190359Z
DTSTART:20160430T070000Z
DTEND:20160430T110000Z
SEQUENCE:0
TRANSP:OPAQUE
END:VEVENT
END:VCALENDAR