BEGIN:VCALENDAR
VERSION:2.0
PRODID:-//jEvents 2.0 for Joomla//EN
CALSCALE:GREGORIAN
METHOD:PUBLISH
BEGIN:VEVENT
UID:41473ababeac37f70d28c3806b76c8e2
CATEGORIES:DEFAULT
SUMMARY:Il bullismo a scuola. Come aiutare un bambino che fa il "bullo".
LOCATION:TICONZERO - Cremona
DESCRIPTION;ENCODING=QUOTED-PRINTABLE:
CONTACT:Nicole Sarti
DTSTAMP:20260424T202751Z
DTSTART:20160514T073000Z
DTEND:20160514T103000Z
SEQUENCE:0
TRANSP:OPAQUE
END:VEVENT
END:VCALENDAR