BEGIN:VCALENDAR
VERSION:2.0
PRODID:-//jEvents 2.0 for Joomla//EN
CALSCALE:GREGORIAN
METHOD:PUBLISH
BEGIN:VEVENT
UID:a142b03a276ffc532e02c14a36a8167e
CATEGORIES:DEFAULT
SUMMARY:Tu sei un bene per me- Meeting Rimini 2016
DESCRIPTION;ENCODING=QUOTED-PRINTABLE:\n\nCi vediamo allo stand di Diesse Lombardia!\n
DTSTAMP:20260425T005711Z
DTSTART:20160819T060000Z
DTEND:20160825T150000Z
SEQUENCE:0
TRANSP:OPAQUE
END:VEVENT
END:VCALENDAR