BEGIN:VCALENDAR
VERSION:2.0
PRODID:-//jEvents 2.0 for Joomla//EN
CALSCALE:GREGORIAN
METHOD:PUBLISH
BEGIN:VEVENT
UID:975d44606173a31f5f0b42b05927c09c
CATEGORIES:DEFAULT
SUMMARY:Terza lezione CERTIFICATE ACQUISITION IN ADVANCED ENGLISH (CAE) 
LOCATION:Liceo Tenca - Bastioni di Porta Volta, 16 - Milano
DESCRIPTION;ENCODING=QUOTED-PRINTABLE:\n\nCommanders of the language.\n\n\nVocabulary inherent at the level of on
 e's knowledge of the language. How to learn a foreign language. The use of 
 make, get and do, exercises related to oral comprehension.\n\n\n \n\n\nTeac
 her: Kenneth R. Brodey\n
DTSTAMP:20260424T221407Z
DTSTART:20161020T140000Z
DTEND:20161020T170000Z
SEQUENCE:0
TRANSP:OPAQUE
END:VEVENT
END:VCALENDAR