BEGIN:VCALENDAR
VERSION:2.0
PRODID:-//jEvents 2.0 for Joomla//EN
CALSCALE:GREGORIAN
METHOD:PUBLISH
BEGIN:VEVENT
UID:385eadaa89fb5b5e7b140c6c7ee40804
CATEGORIES:DEFAULT
SUMMARY:Quarta lezione CERTIFICATE ACQUISITION IN ADVANCED ENGLISH (CAE) 
LOCATION:Liceo Tenca - Bastioni di Porta Volta, 16 - Milano
DESCRIPTION;ENCODING=QUOTED-PRINTABLE:\n\nCommanders of the language.\n\n\nSuffixes and prefixes (e.g., comparati
 ve and superlative adjectives). Expressing purpose, reason and result. Pres
 ent simple and Present continuous. \n\n\n \n\n\nTeacher: Kenneth R. Brodey\
 n
DTSTAMP:20260424T190627Z
DTSTART:20161103T150000Z
DTEND:20161103T180000Z
SEQUENCE:0
TRANSP:OPAQUE
END:VEVENT
END:VCALENDAR