BEGIN:VCALENDAR
VERSION:2.0
PRODID:-//jEvents 2.0 for Joomla//EN
CALSCALE:GREGORIAN
METHOD:PUBLISH
BEGIN:VEVENT
UID:9eacaffcad35949978865b39d1dac0b4
CATEGORIES:DEFAULT
SUMMARY:Sesta lezione CERTIFICATE ACQUISITION IN ADVANCED ENGLISH (CAE) 
LOCATION:Liceo Tenca - Bastioni di Porta Volta, 16 - Milano
DESCRIPTION;ENCODING=QUOTED-PRINTABLE:\n\nIt is all in our mind.\n\n\nThe differences between no, none and not! F
 ormal speech vs informal. Write an article. Past Simple and Past Continuous
 .\n\n\n \n\n\nTeacher: Kenneth R. Brodey\n
DTSTAMP:20260424T192131Z
DTSTART:20161117T150000Z
DTEND:20161117T180000Z
SEQUENCE:0
TRANSP:OPAQUE
END:VEVENT
END:VCALENDAR