BEGIN:VCALENDAR
VERSION:2.0
PRODID:-//jEvents 2.0 for Joomla//EN
CALSCALE:GREGORIAN
METHOD:PUBLISH
BEGIN:VEVENT
UID:98118ecb6c15dcd0f8c69cc7f76bf52c
CATEGORIES:DEFAULT
SUMMARY:Ottava lezione CERTIFICATE ACQUISITION IN ADVANCED ENGLISH (CAE)  
LOCATION:Liceo Tenca - Bastioni di Porta Volta, 16 - Milano
DESCRIPTION;ENCODING=QUOTED-PRINTABLE:\n\nOn the job - What job?\n\n\nRecruiting people for professional duties. 
 Grammar: modal verbs. Expressing possibility, probability and certainty! Fu
 ture Simple and Future Continuous. \n\n\n \n\n\nTeacher: Kenneth R. Brodey 
 \n
DTSTAMP:20260424T173904Z
DTSTART:20161201T150000Z
DTEND:20161201T180000Z
SEQUENCE:0
TRANSP:OPAQUE
END:VEVENT
END:VCALENDAR