BEGIN:VCALENDAR
VERSION:2.0
PRODID:-//jEvents 2.0 for Joomla//EN
CALSCALE:GREGORIAN
METHOD:PUBLISH
BEGIN:VEVENT
UID:c99338a047cfccdea516072463be0664
CATEGORIES:DEFAULT
SUMMARY:Nona lezione CERTIFICATE ACQUISITION IN ADVANCED ENGLISH (CAE) 
LOCATION:Liceo Tenca - Bastioni di Porta Volta, 16 - Milano
DESCRIPTION;ENCODING=QUOTED-PRINTABLE:\n\nExtreme events I\n\n\nExtreme sports and emotions. What is adrenaline? 
 Oral comprehension exercises. Parts of the body and idiomatic expressions a
 ssociated with them. \n\n\n \n\n\nTeacher: Kenneth R. Brodey\n
DTSTAMP:20260424T161605Z
DTSTART:20170112T150000Z
DTEND:20170112T180000Z
SEQUENCE:0
TRANSP:OPAQUE
END:VEVENT
END:VCALENDAR