BEGIN:VCALENDAR
VERSION:2.0
PRODID:-//jEvents 2.0 for Joomla//EN
CALSCALE:GREGORIAN
METHOD:PUBLISH
BEGIN:VEVENT
UID:26f2796f81e2d50156a359a94b6f4e18
CATEGORIES:DEFAULT
SUMMARY:Decima lezione CERTIFICATE ACQUISITION IN ADVANCED ENGLISH (CAE) 
LOCATION:Liceo Tenca - Bastioni di Porta Volta, 16 - Milano
DESCRIPTION;ENCODING=QUOTED-PRINTABLE:\n\nExtreme events II\n\n\nVerbs that take the infinitive and those that ta
 ke the gerund -ing. Infinitive vs gerund -ing. Exercises online.\n\n\n \n\n
 \nTeacher: Kenneth R. Brodey\n
DTSTAMP:20260424T161658Z
DTSTART:20170119T150000Z
DTEND:20170119T180000Z
SEQUENCE:0
TRANSP:OPAQUE
END:VEVENT
END:VCALENDAR