BEGIN:VCALENDAR
VERSION:2.0
PRODID:-//jEvents 2.0 for Joomla//EN
CALSCALE:GREGORIAN
METHOD:PUBLISH
BEGIN:VEVENT
UID:921985792616cb63946ee805bf018be3
CATEGORIES:DEFAULT
SUMMARY:Undicesima lezione CERTIFICATE ACQUISITION IN ADVANCED ENGLISH (CAE) 
LOCATION:Liceo Tenca - Bastioni di Porta Volta, 16 - Milano
DESCRIPTION;ENCODING=QUOTED-PRINTABLE:\n\nSelf- Portrait I\n\n\nHow to describe the various aspects of a person. 
 Written comprehension exercises. Avoiding repetitions.\n\n\n \n\n\nTeacher:
  Kenneth R. Brodey\n\n\n \n
DTSTAMP:20260424T161644Z
DTSTART:20170126T150000Z
DTEND:20170126T180000Z
SEQUENCE:0
TRANSP:OPAQUE
END:VEVENT
END:VCALENDAR