BEGIN:VCALENDAR
VERSION:2.0
PRODID:-//jEvents 2.0 for Joomla//EN
CALSCALE:GREGORIAN
METHOD:PUBLISH
BEGIN:VEVENT
UID:825e7215d636fa3b85ab6250a13090c5
CATEGORIES:DEFAULT
SUMMARY:Tredicesima lezione CERTIFICATE ACQUISITION IN ADVANCED ENGLISH (CAE) 
LOCATION:Liceo Tenca - Bastioni di Porta Volta, 16 - Milano
DESCRIPTION;ENCODING=QUOTED-PRINTABLE:\n\nLeisure time I\n\n\nDiscussion with partners on free time. Complex Prep
 ositions. Written comprehension exercises. Connection ideas: relative claus
 es, conjunctions, and apposition.\n\n\n \n\n\nTeacher: Kenneth R. Brodey\n
DTSTAMP:20260424T152719Z
DTSTART:20170209T150000Z
DTEND:20170209T180000Z
SEQUENCE:0
TRANSP:OPAQUE
END:VEVENT
END:VCALENDAR