BEGIN:VCALENDAR
VERSION:2.0
PRODID:-//jEvents 2.0 for Joomla//EN
CALSCALE:GREGORIAN
METHOD:PUBLISH
BEGIN:VEVENT
UID:0d168345d2017c4b82eef47f24d4f137
CATEGORIES:DEFAULT
SUMMARY:XV lezione CERTIFICATE ACQUISITION IN ADVANCED ENGLISH (CAE) 
LOCATION:Liceo Tenca - Bastioni di Porta Volta, 16 - Milano
DESCRIPTION;ENCODING=QUOTED-PRINTABLE:\n\nQuestions of the Media I\n\n\nDiscussion on the media and its preferred
  information dissemination and reality show. Written comprehension exercise
 s. \n\n\n \n\n\nTeacher: Kenneth R. Brodey\n
DTSTAMP:20260424T150154Z
DTSTART:20170223T030000Z
DTEND:20170223T180000Z
SEQUENCE:0
TRANSP:OPAQUE
END:VEVENT
END:VCALENDAR