BEGIN:VCALENDAR
VERSION:2.0
PRODID:-//jEvents 2.0 for Joomla//EN
CALSCALE:GREGORIAN
METHOD:PUBLISH
BEGIN:VEVENT
UID:368affe57a5483d4bca4d6fa44f102fe
CATEGORIES:DEFAULT
SUMMARY:XVI lezione CERTIFICATE ACQUISITION IN ADVANCED ENGLISH (CAE) 
LOCATION:Liceo Tenca - Bastioni di Porta Volta, 16 - Milano
DESCRIPTION;ENCODING=QUOTED-PRINTABLE:\n\nQuestions of the media II\n\n\nVocabulary: the verbs used most frequent
 ly in speaking. Transitive and intransitive verbs. Reported speech. Writing
  an offer. \n\n\n \n\n\nTeacher: Kenneth R. Brodey\n
DTSTAMP:20260424T161643Z
DTSTART:20170309T150000Z
DTEND:20170309T180000Z
SEQUENCE:0
TRANSP:OPAQUE
END:VEVENT
END:VCALENDAR