BEGIN:VCALENDAR
VERSION:2.0
PRODID:-//jEvents 2.0 for Joomla//EN
CALSCALE:GREGORIAN
METHOD:PUBLISH
BEGIN:VEVENT
UID:ae68453541324bc5da9240ee1dda1a19
CATEGORIES:DEFAULT
SUMMARY:XVII lezione CERTIFICATE ACQUISITION IN ADVANCED ENGLISH (CAE) 
LOCATION:Liceo Tenca - Bastioni di Porta Volta, 16 - Milano
DESCRIPTION;ENCODING=QUOTED-PRINTABLE:\n\nTop speed I\n\n\nWhen is speed important? Written comprehension exercis
 es. Time clauses and prepositions in time expressions. \n\n\n \n\n\nTeacher
 : Kenneth R. Brodey\n
DTSTAMP:20260424T144419Z
DTSTART:20170316T030000Z
DTEND:20170316T180000Z
SEQUENCE:0
TRANSP:OPAQUE
END:VEVENT
END:VCALENDAR