BEGIN:VCALENDAR
VERSION:2.0
PRODID:-//jEvents 2.0 for Joomla//EN
CALSCALE:GREGORIAN
METHOD:PUBLISH
BEGIN:VEVENT
UID:9b6d6ca96384634e0045f347b88cf8f8
CATEGORIES:DEFAULT
SUMMARY:Diciottesima lezione CERTIFICATE ACQUISITION IN ADVANCED ENGLISH (CAE) 
LOCATION:Liceo Tenca - Bastioni di Porta Volta, 16 - Milano
DESCRIPTION;ENCODING=QUOTED-PRINTABLE:\n\nTop speed II\n\n\nVocabulary: aciotn, activity, event, programme. Writt
 en expression exercises. Essay writing. Past Perfect and the Past Perfect C
 ontinuous. \n\n\n \n\n\nTeacher: Kenneth R. Brodey\n
DTSTAMP:20260424T161606Z
DTSTART:20170323T150000Z
DTEND:20170323T180000Z
SEQUENCE:0
TRANSP:OPAQUE
END:VEVENT
END:VCALENDAR