BEGIN:VCALENDAR
VERSION:2.0
PRODID:-//jEvents 2.0 for Joomla//EN
CALSCALE:GREGORIAN
METHOD:PUBLISH
BEGIN:VEVENT
UID:4a81558df9442dd34a9971904202dafe
CATEGORIES:DEFAULT
SUMMARY:Prima lezione Acquisizione del first certificate in english (FCE)
LOCATION:Liceo Tenca - Bastioni di Porta Volta, 16 - Milano
DESCRIPTION;ENCODING=QUOTED-PRINTABLE:\n\nTest d'ingresso.\n\n\nPart 1: level test (written and oral)\n\n\nPart 2
 : Cambridge English: first content and review \n\n\nReading and use of engl
 ish, writing, listening and speaking\n\n\n \n\n\nTeacher: Sandra Groome\n
DTSTAMP:20260424T202756Z
DTSTART:20161013T140000Z
DTEND:20161013T170000Z
SEQUENCE:0
TRANSP:OPAQUE
END:VEVENT
END:VCALENDAR