BEGIN:VCALENDAR
VERSION:2.0
PRODID:-//jEvents 2.0 for Joomla//EN
CALSCALE:GREGORIAN
METHOD:PUBLISH
BEGIN:VEVENT
UID:15255bd15d5f26b22754425176f06fe8
CATEGORIES:DEFAULT
SUMMARY:Seconda lezione Acquisizione del first certificate in english (FCE)
LOCATION:Liceo Tenca - Bastioni di Porta Volta, 16 - Milano
DESCRIPTION;ENCODING=QUOTED-PRINTABLE:\n\nPart 1: Test results and comments\n\n\nPart 2: family\n\n\nHouse chores
  vocabulary. Collacations with make and do. Reading a text and filling in t
 he missing words\n\n\n \n\n\nTeacher: Sandra Groome\n
DTSTAMP:20260424T221400Z
DTSTART:20161020T140000Z
DTEND:20161020T170000Z
SEQUENCE:0
TRANSP:OPAQUE
END:VEVENT
END:VCALENDAR