BEGIN:VCALENDAR
VERSION:2.0
PRODID:-//jEvents 2.0 for Joomla//EN
CALSCALE:GREGORIAN
METHOD:PUBLISH
BEGIN:VEVENT
UID:a1b8ff41283eede776f674c1d205e81c
CATEGORIES:DEFAULT
SUMMARY:Terza lezione Acquisizione del first certificate in english (FCE)
LOCATION:Liceo Tenca - Bastioni di Porta Volta, 16 - Milano
DESCRIPTION;ENCODING=QUOTED-PRINTABLE:\n\nPart 1: Parents and teenagers\n\n\nReading an article. Reading for gist
 s. Filling in the gaps. Describing people's personality; adjectives, prefix
 es dis-, un-, im-, ir-, in-. \n\n\nPart 2: Grammar\n\n\nPresent Perfect sim
 ple/continuous; use and form, been and gone. \n\n\n \n\n\nTeacher: Sandra G
 roome\n\n\n \n
DTSTAMP:20260424T190627Z
DTSTART:20161103T150000Z
DTEND:20161103T180000Z
SEQUENCE:0
TRANSP:OPAQUE
END:VEVENT
END:VCALENDAR