BEGIN:VCALENDAR
VERSION:2.0
PRODID:-//jEvents 2.0 for Joomla//EN
CALSCALE:GREGORIAN
METHOD:PUBLISH
BEGIN:VEVENT
UID:efab37894b4f599cdaa788bf4652b730
CATEGORIES:DEFAULT
SUMMARY:Sesta lezione Acquisizione del first certificate in english (FCE)
LOCATION:Liceo Tenca - Bastioni di Porta Volta, 16 - Milano
DESCRIPTION;ENCODING=QUOTED-PRINTABLE:\n\nPart 1: Happy holidays\n\n\nVocabulary building on types of holidays, h
 oliday locations and places to stay and holiday activities. \n\n\nPart 2: V
 ocabulary and grammar review on Unit 1 and Unit 2\n\n\n \n\n\nTeacher: Sand
 ra Groome\n
DTSTAMP:20260424T190355Z
DTSTART:20161124T150000Z
DTEND:20161124T180000Z
SEQUENCE:0
TRANSP:OPAQUE
END:VEVENT
END:VCALENDAR