BEGIN:VCALENDAR
VERSION:2.0
PRODID:-//jEvents 2.0 for Joomla//EN
CALSCALE:GREGORIAN
METHOD:PUBLISH
BEGIN:VEVENT
UID:fa0cb136f392a61ca424ae4a8f04b91e
CATEGORIES:DEFAULT
SUMMARY:Nona lezione Acquisizione del first certificate in english (FCE)
LOCATION:Liceo Tenca - Bastioni di Porta Volta, 16 - Milano
DESCRIPTION;ENCODING=QUOTED-PRINTABLE:\n\nPart 1: Study time\n\n\nReading extracts from four reports written by s
 econdary-school students from different countries. Class discussion: the be
 nefits and problems of doing an educational exchange. \n\n\nPart 2: Grammar
 \n\n\nZero, first and second conditional\n\n\n \n\n\nTeacher: Sandra Groome
 \n
DTSTAMP:20260424T161643Z
DTSTART:20170112T030000Z
DTEND:20170112T180000Z
SEQUENCE:0
TRANSP:OPAQUE
END:VEVENT
END:VCALENDAR