BEGIN:VCALENDAR
VERSION:2.0
PRODID:-//jEvents 2.0 for Joomla//EN
CALSCALE:GREGORIAN
METHOD:PUBLISH
BEGIN:VEVENT
UID:a3500ee6760a6a3beb387e302eedf8e2
CATEGORIES:DEFAULT
SUMMARY:Decima lezione Acquisizione del first certificate in english (FCE)
LOCATION:Liceo Tenca - Bastioni di Porta Volta, 16 - Milano
DESCRIPTION;ENCODING=QUOTED-PRINTABLE:\n\nPart 1: Students and theri options of school\n\n\nDeveloping listening 
 skills: (listening part 1) students talking in eight different situations. 
 Listening for gist, identifying key ideas in questions. Phrasal verbs with 
 get, hand, look.\n\n\nPart 2: Word formation \n\n\nForming personal nouns, 
 adding prefixes to give negative meaning and adding suffixes. \n\n\nVocabul
 ary and grammar reviews on units 5 and 6.\n\n\n \n\n\nTeacher: Sandra Groom
 e\n
DTSTAMP:20260424T161643Z
DTSTART:20170119T150000Z
DTEND:20170119T180000Z
SEQUENCE:0
TRANSP:OPAQUE
END:VEVENT
END:VCALENDAR