BEGIN:VCALENDAR
VERSION:2.0
PRODID:-//jEvents 2.0 for Joomla//EN
CALSCALE:GREGORIAN
METHOD:PUBLISH
BEGIN:VEVENT
UID:e4c35960012f84dba8db687e6598af3a
CATEGORIES:DEFAULT
SUMMARY:Undicesima lezione Acquisizione del first certificate in english (FCE)
LOCATION:Liceo Tenca - Bastioni di Porta Volta, 16 - Milano
DESCRIPTION;ENCODING=QUOTED-PRINTABLE:\n\nPart 1: Medical matters\n\n\nDeveloping listening skills: (listening pa
 rt 3) five people talking about a visit to their family doctor. Listening f
 or global meaning, gist and detail. Vocabulary: illnesses and injuries, hav
 e got.\n\n\nPart 2: Grammar \n\n\nRelative pronouns and relative clauses; d
 efining relative clauses and non-defining relative clauses.\n\n\n \n\n\nTea
 cher: Sandra Groome\n
DTSTAMP:20260424T161547Z
DTSTART:20170126T150000Z
DTEND:20170126T180000Z
SEQUENCE:0
TRANSP:OPAQUE
END:VEVENT
END:VCALENDAR