BEGIN:VCALENDAR
VERSION:2.0
PRODID:-//jEvents 2.0 for Joomla//EN
CALSCALE:GREGORIAN
METHOD:PUBLISH
BEGIN:VEVENT
UID:f63c21bd64b7ece402f5a70e3e2c8281
CATEGORIES:DEFAULT
SUMMARY:Tredicesima lezione Acquisizione del first certificate in english (FCE)
LOCATION:Liceo Tenca - Bastioni di Porta Volta, 16 - Milano
DESCRIPTION;ENCODING=QUOTED-PRINTABLE:\n\nWriting an essay 2 (p. 60)\n\n\nPart 1: Writing paper part 2: writing o
 pening paragraphs; using linking words and phrases.\n\n\nPart 2: Controlled
  practice; writing an essay (140-190 words)\n\n\n \n\n\nTeacher: Sandra Gro
 ome\n
DTSTAMP:20260424T152048Z
DTSTART:20170209T150000Z
DTEND:20170209T180000Z
SEQUENCE:0
TRANSP:OPAQUE
END:VEVENT
END:VCALENDAR