BEGIN:VCALENDAR
VERSION:2.0
PRODID:-//jEvents 2.0 for Joomla//EN
CALSCALE:GREGORIAN
METHOD:PUBLISH
BEGIN:VEVENT
UID:7bf8f991ccc053910c9fa489dc1bb5c0
CATEGORIES:DEFAULT
SUMMARY:XIV lezione Acquisizione del first certificate in english (FCE)
LOCATION:Liceo Tenca - Bastioni di Porta Volta, 16 - Milano
DESCRIPTION;ENCODING=QUOTED-PRINTABLE:\n\nPart 1: Animal kingdom\n\n\nReading and use of English (part 7): identi
 fying key ideas in questions; paying attention to tenses and time verbs.\n\
 n\nPart 2: Grammar\n\n\nThird conditional and mixed conditionals; wish, if 
 only and hope.\n\n\n \n\n\nTeacher: Sandra Groome\n
DTSTAMP:20260424T112828Z
DTSTART:20170216T150000Z
DTEND:20170216T180000Z
SEQUENCE:0
TRANSP:OPAQUE
END:VEVENT
END:VCALENDAR