BEGIN:VCALENDAR
VERSION:2.0
PRODID:-//jEvents 2.0 for Joomla//EN
CALSCALE:GREGORIAN
METHOD:PUBLISH
BEGIN:VEVENT
UID:889b1004acf2acc370d86e6463d8bba8
CATEGORIES:DEFAULT
SUMMARY:XVI lezione Acquisizione del first certificate in english (FCE)
LOCATION:Liceo Tenca - Bastioni di Porta Volta, 16 - Milano
DESCRIPTION;ENCODING=QUOTED-PRINTABLE:\n\nFamily and home\n\n\nPart 1: Speaking part one: introduction to task ty
 pe; giving personal information and personal opinions, giving extended answ
 ers.\n\n\nPart 2: Extended practice on part 1\n\n\n \n\n\nTeacher: Sandra G
 roome\n
DTSTAMP:20260424T161548Z
DTSTART:20170302T150000Z
DTEND:20170302T180000Z
SEQUENCE:0
TRANSP:OPAQUE
END:VEVENT
END:VCALENDAR