BEGIN:VCALENDAR
VERSION:2.0
PRODID:-//jEvents 2.0 for Joomla//EN
CALSCALE:GREGORIAN
METHOD:PUBLISH
BEGIN:VEVENT
UID:601222e05ac2cac9836ee1f05b842300
CATEGORIES:DEFAULT
SUMMARY:XVII lezione Acquisizione del first certificate in english (FCE) 
LOCATION:Liceo Tenca - Bastioni di Porta Volta, 16 - Milano
DESCRIPTION;ENCODING=QUOTED-PRINTABLE:\n\nLeisure and pleasure\n\n\nPart 1: Speaking part two: comparing photos. 
 Vocabulary: free time activities and hobbies. Mind maps, hobbies/sports.\n\
 n\nPart 2: Extended practice on Speaking part 2.\n\n\n \n\n\nTeacher: Sandr
 a Groome\n
DTSTAMP:20260424T161606Z
DTSTART:20170309T150000Z
DTEND:20170309T180000Z
SEQUENCE:0
TRANSP:OPAQUE
END:VEVENT
END:VCALENDAR