BEGIN:VCALENDAR
VERSION:2.0
PRODID:-//jEvents 2.0 for Joomla//EN
CALSCALE:GREGORIAN
METHOD:PUBLISH
BEGIN:VEVENT
UID:2df2beb6e2737e9617f19fdaf68535f6
CATEGORIES:DEFAULT
SUMMARY:XVIII lezione Acquisizione del first certificate in english (FCE) 
LOCATION:Liceo Tenca - Bastioni di Porta Volta, 16 - Milano
DESCRIPTION;ENCODING=QUOTED-PRINTABLE:\n\nMedical matters\n\n\nPart 1: Speaking part 2: strategies and phrases fo
 r getting out of difficulties and finding the right word.\n\n\nPart 2: Pron
 unciation (intonation)\n\n\n \n\n\nTeacher: Sandra Groome\n
DTSTAMP:20260424T143533Z
DTSTART:20170316T150000Z
DTEND:20170316T180000Z
SEQUENCE:0
TRANSP:OPAQUE
END:VEVENT
END:VCALENDAR