BEGIN:VCALENDAR
VERSION:2.0
PRODID:-//jEvents 2.0 for Joomla//EN
CALSCALE:GREGORIAN
METHOD:PUBLISH
BEGIN:VEVENT
UID:ebb13a298fe0a3df2a5b2b8d4876de0f
CATEGORIES:DEFAULT
SUMMARY:Diciannovesima lezione Acquisizione del first certificate in english (FCE) 
LOCATION:Liceo Tenca - Bastioni di Porta Volta, 16 - Milano
DESCRIPTION;ENCODING=QUOTED-PRINTABLE:\n\nSpeaking parts 3 and 4 (p. 156)\n\n\nPart 1: Speaking part 3; asking/gi
 ving opinions; agreeing and disagreeing.\n\n\nPart 2: Speaking part 4; supp
 orting and encouraging your partner.\n\n\n \n\n\nTeacher: Sandra Groome\n
DTSTAMP:20260424T161548Z
DTSTART:20170323T150000Z
DTEND:20170323T180000Z
SEQUENCE:0
TRANSP:OPAQUE
END:VEVENT
END:VCALENDAR