BEGIN:VCALENDAR
VERSION:2.0
PRODID:-//jEvents 2.0 for Joomla//EN
CALSCALE:GREGORIAN
METHOD:PUBLISH
BEGIN:VEVENT
UID:348208ed7d896fe990743316db79718c
CATEGORIES:DEFAULT
SUMMARY:Ventesima lezione Acquisizione del first certificate in english (FCE) 
LOCATION:Liceo Tenca - Bastioni di Porta Volta, 16 - Milano
DESCRIPTION;ENCODING=QUOTED-PRINTABLE:\n\nVideo\n\n\nFCE oral exam\n\n\nPractice\n\n\n \n\n\nTeacher: Sandra Groo
 me\n
DTSTAMP:20260424T161643Z
DTSTART:20170330T140000Z
DTEND:20170330T170000Z
SEQUENCE:0
TRANSP:OPAQUE
END:VEVENT
END:VCALENDAR