BEGIN:VCALENDAR
VERSION:2.0
PRODID:-//jEvents 2.0 for Joomla//EN
CALSCALE:GREGORIAN
METHOD:PUBLISH
BEGIN:VEVENT
UID:4c924b22d709efd1c8789e20d376453d
CATEGORIES:DEFAULT
SUMMARY:Ventiduesima lezione Acquisizione del first certificate in english (FCE) 
LOCATION:Liceo Tenca - Bastioni di Porta Volta, 16 - Milano
DESCRIPTION;ENCODING=QUOTED-PRINTABLE:\n\nHouse space\n\n\nPart 1: Reading and Use of English (part 5); practice 
 in skimming; work on referencing and inferencing. Vocabulary: types of home
 s; space, place, room, area, location and square.\n\n\nPart 2: Grammar: exp
 ressing obligation and permission.\n\n\n \n\n\nTeacher: Sandra Groome\n
DTSTAMP:20260424T181336Z
DTSTART:20170420T140000Z
DTEND:20170420T170000Z
SEQUENCE:0
TRANSP:OPAQUE
END:VEVENT
END:VCALENDAR