BEGIN:VCALENDAR
VERSION:2.0
PRODID:-//jEvents 2.0 for Joomla//EN
CALSCALE:GREGORIAN
METHOD:PUBLISH
BEGIN:VEVENT
UID:629741732b4f7f0295152b980372077d
CATEGORIES:DEFAULT
SUMMARY:Ventitreesima lezione Acquisizione del first certificate in english (FCE) 
LOCATION:Liceo Tenca - Bastioni di Porta Volta, 16 - Milano
DESCRIPTION;ENCODING=QUOTED-PRINTABLE:\n\nPart 1: Reading and use of English\n\n\nPart 2: Listening\n\n\n \n\n\nT
 eacher: Sandra Groome\n
DTSTAMP:20260424T181342Z
DTSTART:20170427T140000Z
DTEND:20170427T170000Z
SEQUENCE:0
TRANSP:OPAQUE
END:VEVENT
END:VCALENDAR