BEGIN:VCALENDAR
VERSION:2.0
PRODID:-//jEvents 2.0 for Joomla//EN
CALSCALE:GREGORIAN
METHOD:PUBLISH
BEGIN:VEVENT
UID:3228611515a277729f6e1de2e8cf81d2
CATEGORIES:DEFAULT
SUMMARY:Ultima lezione Acquisizione del first certificate in english (FCE) 
LOCATION:Liceo Tenca - Bastioni di Porta Volta, 16 - Milano
DESCRIPTION;ENCODING=QUOTED-PRINTABLE:\n\nFinal exam\n\n\n \n\n\nTeacher: Sandra Groome\n
DTSTAMP:20260424T205548Z
DTSTART:20170504T140000Z
DTEND:20170504T170000Z
SEQUENCE:0
TRANSP:OPAQUE
END:VEVENT
END:VCALENDAR